BEGIN:VCALENDAR
VERSION:2.0
PRODID:-//Blacklick Woods - ECPv6.15.20//NONSGML v1.0//EN
CALSCALE:GREGORIAN
METHOD:PUBLISH
X-ORIGINAL-URL:https://blacklickwoodsgc.com
X-WR-CALDESC:Events for Blacklick Woods
REFRESH-INTERVAL;VALUE=DURATION:PT1H
X-Robots-Tag:noindex
X-PUBLISHED-TTL:PT1H
BEGIN:VTIMEZONE
TZID:America/Toronto
BEGIN:DAYLIGHT
TZOFFSETFROM:-0500
TZOFFSETTO:-0400
TZNAME:EDT
DTSTART:20180311T070000
END:DAYLIGHT
BEGIN:STANDARD
TZOFFSETFROM:-0400
TZOFFSETTO:-0500
TZNAME:EST
DTSTART:20181104T060000
END:STANDARD
BEGIN:DAYLIGHT
TZOFFSETFROM:-0500
TZOFFSETTO:-0400
TZNAME:EDT
DTSTART:20190310T070000
END:DAYLIGHT
BEGIN:STANDARD
TZOFFSETFROM:-0400
TZOFFSETTO:-0500
TZNAME:EST
DTSTART:20191103T060000
END:STANDARD
BEGIN:DAYLIGHT
TZOFFSETFROM:-0500
TZOFFSETTO:-0400
TZNAME:EDT
DTSTART:20200308T070000
END:DAYLIGHT
BEGIN:STANDARD
TZOFFSETFROM:-0400
TZOFFSETTO:-0500
TZNAME:EST
DTSTART:20201101T060000
END:STANDARD
END:VTIMEZONE
BEGIN:VEVENT
DTSTART;TZID=America/Toronto:20190709T070000
DTEND;TZID=America/Toronto:20190709T113000
DTSTAMP:20260422T082138
CREATED:20190617T163702Z
LAST-MODIFIED:20190617T163702Z
UID:5215-1562655600-1562671800@blacklickwoodsgc.com
SUMMARY:Practice Facility Closed-7am-11:30am
DESCRIPTION:First Tee
URL:https://blacklickwoodsgc.com/event/practice-facility-closed-7am-1130am-9/
CATEGORIES:Driving Range
END:VEVENT
BEGIN:VEVENT
DTSTART;TZID=America/Toronto:20190708T070000
DTEND;TZID=America/Toronto:20190708T120000
DTSTAMP:20260422T082138
CREATED:20190617T162719Z
LAST-MODIFIED:20190617T162719Z
UID:5203-1562569200-1562587200@blacklickwoodsgc.com
SUMMARY:Driving Range Closed-7am-Noon
DESCRIPTION:Maintenance
URL:https://blacklickwoodsgc.com/event/driving-range-closed-7am-noon-9/
CATEGORIES:Driving Range
END:VEVENT
BEGIN:VEVENT
DTSTART;TZID=America/Toronto:20190701T070000
DTEND;TZID=America/Toronto:20190701T120000
DTSTAMP:20260422T082138
CREATED:20190617T162228Z
LAST-MODIFIED:20190617T162228Z
UID:5200-1561964400-1561982400@blacklickwoodsgc.com
SUMMARY:Driving Range Closed- 7am-Noon
DESCRIPTION:Maintenance
URL:https://blacklickwoodsgc.com/event/driving-range-closed-7am-noon-8/
CATEGORIES:Driving Range
END:VEVENT
BEGIN:VEVENT
DTSTART;TZID=America/Toronto:20190627T070000
DTEND;TZID=America/Toronto:20190627T113000
DTSTAMP:20260422T082138
CREATED:20190523T183152Z
LAST-MODIFIED:20190523T183152Z
UID:5117-1561618800-1561635000@blacklickwoodsgc.com
SUMMARY:Practice Facility Closed-7am-11:30am
DESCRIPTION:First Tee
URL:https://blacklickwoodsgc.com/event/practice-facility-closed-7am-1130am-8/
CATEGORIES:Driving Range
END:VEVENT
BEGIN:VEVENT
DTSTART;TZID=America/Toronto:20190625T070000
DTEND;TZID=America/Toronto:20190625T113000
DTSTAMP:20260422T082138
CREATED:20190523T182627Z
LAST-MODIFIED:20190523T182627Z
UID:5111-1561446000-1561462200@blacklickwoodsgc.com
SUMMARY:Practice Facility Closed-7am-11:30am
DESCRIPTION:First Tee
URL:https://blacklickwoodsgc.com/event/practice-facility-closed-7am-1130am-7/
CATEGORIES:Driving Range
END:VEVENT
BEGIN:VEVENT
DTSTART;TZID=America/Toronto:20190624T070000
DTEND;TZID=America/Toronto:20190624T120000
DTSTAMP:20260422T082138
CREATED:20190523T183504Z
LAST-MODIFIED:20190523T183504Z
UID:5129-1561359600-1561377600@blacklickwoodsgc.com
SUMMARY:Driving Range Closed-7am-Noon
DESCRIPTION:Maintenance
URL:https://blacklickwoodsgc.com/event/driving-range-closed-7am-noon-7/
CATEGORIES:Driving Range
END:VEVENT
BEGIN:VEVENT
DTSTART;TZID=America/Toronto:20190621T070000
DTEND;TZID=America/Toronto:20190621T140000
DTSTAMP:20260422T082138
CREATED:20190523T185546Z
LAST-MODIFIED:20190523T185546Z
UID:5168-1561100400-1561125600@blacklickwoodsgc.com
SUMMARY:Practice Facility Closed- 7am-2pm
DESCRIPTION:Drive\, Chip\, and Putt
URL:https://blacklickwoodsgc.com/event/practice-facility-closed-7am-2pm/
CATEGORIES:Driving Range
END:VEVENT
BEGIN:VEVENT
DTSTART;TZID=America/Toronto:20190620T070000
DTEND;TZID=America/Toronto:20190620T113000
DTSTAMP:20260422T082138
CREATED:20190523T182339Z
LAST-MODIFIED:20190523T182339Z
UID:5105-1561014000-1561030200@blacklickwoodsgc.com
SUMMARY:Practice Facility Closed- 7am-11:30am
DESCRIPTION:First Tee
URL:https://blacklickwoodsgc.com/event/practice-facility-closed-7am-1130am-6/
CATEGORIES:Driving Range
END:VEVENT
BEGIN:VEVENT
DTSTART;TZID=America/Toronto:20190618T070000
DTEND;TZID=America/Toronto:20190618T113000
DTSTAMP:20260422T082138
CREATED:20190523T182148Z
LAST-MODIFIED:20190523T182148Z
UID:5099-1560841200-1560857400@blacklickwoodsgc.com
SUMMARY:Practice Facility Closed- 7am-11:30am
DESCRIPTION:First Tee
URL:https://blacklickwoodsgc.com/event/practice-facility-closed-7am-1130am-5/
CATEGORIES:Driving Range
END:VEVENT
BEGIN:VEVENT
DTSTART;TZID=America/Toronto:20190617T070000
DTEND;TZID=America/Toronto:20190617T120000
DTSTAMP:20260422T082138
CREATED:20190523T183420Z
LAST-MODIFIED:20190523T183420Z
UID:5126-1560754800-1560772800@blacklickwoodsgc.com
SUMMARY:Driving Range Closed-7am-Noon
DESCRIPTION:Maintenance
URL:https://blacklickwoodsgc.com/event/driving-range-closed-7am-noon-6/
CATEGORIES:Driving Range
END:VEVENT
BEGIN:VEVENT
DTSTART;TZID=America/Toronto:20190613T070000
DTEND;TZID=America/Toronto:20190613T113000
DTSTAMP:20260422T082138
CREATED:20190523T181930Z
LAST-MODIFIED:20190523T181930Z
UID:5093-1560409200-1560425400@blacklickwoodsgc.com
SUMMARY:Practice Facility Closed- 7am-11:30am
DESCRIPTION:First Tee
URL:https://blacklickwoodsgc.com/event/practice-facility-closed-7am-1130am-4/
CATEGORIES:Driving Range
END:VEVENT
BEGIN:VEVENT
DTSTART;TZID=America/Toronto:20190611T070000
DTEND;TZID=America/Toronto:20190611T113000
DTSTAMP:20260422T082138
CREATED:20190523T181729Z
LAST-MODIFIED:20190523T181729Z
UID:5087-1560236400-1560252600@blacklickwoodsgc.com
SUMMARY:Practice Facility Closed- 7am-11:30am
DESCRIPTION:First Tee
URL:https://blacklickwoodsgc.com/event/practice-facility-closed-7am-1130am-3/
CATEGORIES:Driving Range
END:VEVENT
BEGIN:VEVENT
DTSTART;TZID=America/Toronto:20190610T070000
DTEND;TZID=America/Toronto:20190610T120000
DTSTAMP:20260422T082138
CREATED:20190523T183341Z
LAST-MODIFIED:20190523T183341Z
UID:5123-1560150000-1560168000@blacklickwoodsgc.com
SUMMARY:Driving Range Closed-7am-Noon
DESCRIPTION:Maintenance
URL:https://blacklickwoodsgc.com/event/driving-range-closed-7am-noon-5/
CATEGORIES:Driving Range
END:VEVENT
BEGIN:VEVENT
DTSTART;TZID=America/Toronto:20190606T070000
DTEND;TZID=America/Toronto:20190606T113000
DTSTAMP:20260422T082138
CREATED:20190523T181528Z
LAST-MODIFIED:20190523T181528Z
UID:5081-1559804400-1559820600@blacklickwoodsgc.com
SUMMARY:Practice Facility Closed- 7am-11:30am
DESCRIPTION:First Tee
URL:https://blacklickwoodsgc.com/event/practice-facility-closed-7am-1130am-2/
CATEGORIES:Driving Range
END:VEVENT
BEGIN:VEVENT
DTSTART;TZID=America/Toronto:20190604T070000
DTEND;TZID=America/Toronto:20190604T113000
DTSTAMP:20260422T082138
CREATED:20190523T180826Z
LAST-MODIFIED:20190523T180826Z
UID:5074-1559631600-1559647800@blacklickwoodsgc.com
SUMMARY:Practice Facility Closed- 7am-11:30am
DESCRIPTION:First Tee
URL:https://blacklickwoodsgc.com/event/practice-facility-closed-7am-1130am/
CATEGORIES:Driving Range
END:VEVENT
BEGIN:VEVENT
DTSTART;TZID=America/Toronto:20190603T070000
DTEND;TZID=America/Toronto:20190603T120000
DTSTAMP:20260422T082138
CREATED:20190523T183257Z
LAST-MODIFIED:20190523T183257Z
UID:5120-1559545200-1559563200@blacklickwoodsgc.com
SUMMARY:Driving Range Closed-7am-Noon
DESCRIPTION:Maintenance
URL:https://blacklickwoodsgc.com/event/driving-range-closed-7am-noon-4/
CATEGORIES:Driving Range
END:VEVENT
BEGIN:VEVENT
DTSTART;TZID=America/Toronto:20190528T070000
DTEND;TZID=America/Toronto:20190528T120000
DTSTAMP:20260422T082138
CREATED:20190430T152813Z
LAST-MODIFIED:20190430T152818Z
UID:4954-1559026800-1559044800@blacklickwoodsgc.com
SUMMARY:Driving Range Closed- 7am-Noon
DESCRIPTION:Maintenance
URL:https://blacklickwoodsgc.com/event/driving-range-closed-7am-noon-3/
CATEGORIES:Driving Range
END:VEVENT
BEGIN:VEVENT
DTSTART;TZID=America/Toronto:20190520T070000
DTEND;TZID=America/Toronto:20190520T120000
DTSTAMP:20260422T082138
CREATED:20190430T152611Z
LAST-MODIFIED:20190430T152921Z
UID:4951-1558335600-1558353600@blacklickwoodsgc.com
SUMMARY:Driving Range Closed- 7am-Noon
DESCRIPTION:Maintenance
URL:https://blacklickwoodsgc.com/event/driving-range-closed-7am-noon-2/
CATEGORIES:Driving Range
END:VEVENT
BEGIN:VEVENT
DTSTART;TZID=America/Toronto:20190513T070000
DTEND;TZID=America/Toronto:20190513T120000
DTSTAMP:20260422T082138
CREATED:20190430T152409Z
LAST-MODIFIED:20190430T152950Z
UID:4948-1557730800-1557748800@blacklickwoodsgc.com
SUMMARY:Driving Range Closed- 7am-Noon
DESCRIPTION:Maintenance
URL:https://blacklickwoodsgc.com/event/driving-range-closed-7am-noon/
CATEGORIES:Driving Range
END:VEVENT
BEGIN:VEVENT
DTSTART;TZID=America/Toronto:20190506T070000
DTEND;TZID=America/Toronto:20190506T120000
DTSTAMP:20260422T082138
CREATED:20190430T152104Z
LAST-MODIFIED:20190430T153038Z
UID:4942-1557126000-1557144000@blacklickwoodsgc.com
SUMMARY:Driving Range Closed- 7am- Noon
DESCRIPTION:Maintenance
URL:https://blacklickwoodsgc.com/event/driving-range-closed/
CATEGORIES:Driving Range
END:VEVENT
END:VCALENDAR