BEGIN:VCALENDAR
VERSION:2.0
PRODID:-//Blacklick Woods - ECPv6.15.20//NONSGML v1.0//EN
CALSCALE:GREGORIAN
METHOD:PUBLISH
X-WR-CALNAME:Blacklick Woods
X-ORIGINAL-URL:https://blacklickwoodsgc.com
X-WR-CALDESC:Events for Blacklick Woods
REFRESH-INTERVAL;VALUE=DURATION:PT1H
X-Robots-Tag:noindex
X-PUBLISHED-TTL:PT1H
BEGIN:VTIMEZONE
TZID:America/Toronto
BEGIN:DAYLIGHT
TZOFFSETFROM:-0500
TZOFFSETTO:-0400
TZNAME:EDT
DTSTART:20180311T070000
END:DAYLIGHT
BEGIN:STANDARD
TZOFFSETFROM:-0400
TZOFFSETTO:-0500
TZNAME:EST
DTSTART:20181104T060000
END:STANDARD
BEGIN:DAYLIGHT
TZOFFSETFROM:-0500
TZOFFSETTO:-0400
TZNAME:EDT
DTSTART:20190310T070000
END:DAYLIGHT
BEGIN:STANDARD
TZOFFSETFROM:-0400
TZOFFSETTO:-0500
TZNAME:EST
DTSTART:20191103T060000
END:STANDARD
BEGIN:DAYLIGHT
TZOFFSETFROM:-0500
TZOFFSETTO:-0400
TZNAME:EDT
DTSTART:20200308T070000
END:DAYLIGHT
BEGIN:STANDARD
TZOFFSETFROM:-0400
TZOFFSETTO:-0500
TZNAME:EST
DTSTART:20201101T060000
END:STANDARD
END:VTIMEZONE
BEGIN:VEVENT
DTSTART;TZID=America/Toronto:20190722T070000
DTEND;TZID=America/Toronto:20190722T120000
DTSTAMP:20260423T061804
CREATED:20190617T163103Z
LAST-MODIFIED:20190617T163103Z
UID:5209-1563778800-1563796800@blacklickwoodsgc.com
SUMMARY:Driving Range Closed-7am-Noon
DESCRIPTION:Maintenance
URL:https://blacklickwoodsgc.com/event/driving-range-closed-7am-noon-11/
CATEGORIES:Driving Range
END:VEVENT
BEGIN:VEVENT
DTSTART;TZID=America/Toronto:20190719T070000
DTEND;TZID=America/Toronto:20190719T140000
DTSTAMP:20260423T061804
CREATED:20190617T172533Z
LAST-MODIFIED:20190617T172533Z
UID:5285-1563519600-1563544800@blacklickwoodsgc.com
SUMMARY:Championship Course Closed-7am-2pm
DESCRIPTION:Outing
URL:https://blacklickwoodsgc.com/event/championship-course-closed-7am-2pm-2/
CATEGORIES:Championship Course
END:VEVENT
BEGIN:VEVENT
DTSTART;TZID=America/Toronto:20190718T163000
DTEND;TZID=America/Toronto:20190718T180000
DTSTAMP:20260423T061804
CREATED:20190617T171341Z
LAST-MODIFIED:20190617T171341Z
UID:5269-1563467400-1563472800@blacklickwoodsgc.com
SUMMARY:Learning Course Closed-4:30pm-6:15pm
DESCRIPTION:League
URL:https://blacklickwoodsgc.com/event/learning-course-closed-430pm-615pm-6/
CATEGORIES:Learning Course
END:VEVENT
BEGIN:VEVENT
DTSTART;TZID=America/Toronto:20190718T070000
DTEND;TZID=America/Toronto:20190718T113000
DTSTAMP:20260423T061804
CREATED:20190617T171228Z
LAST-MODIFIED:20190617T171228Z
UID:5266-1563433200-1563449400@blacklickwoodsgc.com
SUMMARY:Learning Course Closed-7am-11:30am
DESCRIPTION:First Tee
URL:https://blacklickwoodsgc.com/event/learning-course-closed-7am-1130am-19/
CATEGORIES:Learning Course
END:VEVENT
BEGIN:VEVENT
DTSTART;TZID=America/Toronto:20190718T070000
DTEND;TZID=America/Toronto:20190718T113000
DTSTAMP:20260423T061804
CREATED:20190617T171054Z
LAST-MODIFIED:20190617T171054Z
UID:5263-1563433200-1563449400@blacklickwoodsgc.com
SUMMARY:Practice Facility Closed-7am-11:30am
DESCRIPTION:First Tee
URL:https://blacklickwoodsgc.com/event/practice-facility-closed-7am-1130am-14/
CATEGORIES:Driving Range
END:VEVENT
BEGIN:VEVENT
DTSTART;TZID=America/Toronto:20190717T070000
DTEND;TZID=America/Toronto:20190717T113000
DTSTAMP:20260423T061804
CREATED:20190617T165926Z
LAST-MODIFIED:20190617T165926Z
UID:5245-1563346800-1563363000@blacklickwoodsgc.com
SUMMARY:Learning Course Closed-7am-11:30am
DESCRIPTION:League
URL:https://blacklickwoodsgc.com/event/learning-course-closed-7am-1130am-15/
CATEGORIES:Learning Course
END:VEVENT
BEGIN:VEVENT
DTSTART;TZID=America/Toronto:20190716T070000
DTEND;TZID=America/Toronto:20190716T113000
DTSTAMP:20260423T061804
CREATED:20190617T164113Z
LAST-MODIFIED:20190617T164113Z
UID:5224-1563260400-1563276600@blacklickwoodsgc.com
SUMMARY:Learning Course Closed-7am-11:30am
DESCRIPTION:First Tee
URL:https://blacklickwoodsgc.com/event/learning-course-closed-7am-1130am-10/
CATEGORIES:Learning Course
END:VEVENT
BEGIN:VEVENT
DTSTART;TZID=America/Toronto:20190716T070000
DTEND;TZID=America/Toronto:20190716T113000
DTSTAMP:20260423T061804
CREATED:20190617T164007Z
LAST-MODIFIED:20190617T164007Z
UID:5221-1563260400-1563276600@blacklickwoodsgc.com
SUMMARY:Practice Facility Closed-7am-11:30am
DESCRIPTION:First Tee
URL:https://blacklickwoodsgc.com/event/practice-facility-closed-7am-1130am-10/
CATEGORIES:Driving Range
END:VEVENT
BEGIN:VEVENT
DTSTART;TZID=America/Toronto:20190715T070000
DTEND;TZID=America/Toronto:20190715T120000
DTSTAMP:20260423T061804
CREATED:20190617T162959Z
LAST-MODIFIED:20190617T162959Z
UID:5206-1563174000-1563192000@blacklickwoodsgc.com
SUMMARY:Driving Range Closed-7am-Noon
DESCRIPTION:Maintenance
URL:https://blacklickwoodsgc.com/event/driving-range-closed-7am-noon-10/
CATEGORIES:Driving Range
END:VEVENT
BEGIN:VEVENT
DTSTART;TZID=America/Toronto:20190711T163000
DTEND;TZID=America/Toronto:20190711T180000
DTSTAMP:20260423T061804
CREATED:20190617T170853Z
LAST-MODIFIED:20190617T170853Z
UID:5260-1562862600-1562868000@blacklickwoodsgc.com
SUMMARY:Learning Course Closed-4:30pm-6:15pm
DESCRIPTION:League
URL:https://blacklickwoodsgc.com/event/learning-course-closed-430pm-615pm-5/
CATEGORIES:Learning Course
END:VEVENT
BEGIN:VEVENT
DTSTART;TZID=America/Toronto:20190711T070000
DTEND;TZID=America/Toronto:20190711T113000
DTSTAMP:20260423T061804
CREATED:20190617T170737Z
LAST-MODIFIED:20190617T170737Z
UID:5257-1562828400-1562844600@blacklickwoodsgc.com
SUMMARY:Learning Course Closed-7am-11:30am
DESCRIPTION:First Tee
URL:https://blacklickwoodsgc.com/event/learning-course-closed-7am-1130am-18/
CATEGORIES:Learning Course
END:VEVENT
BEGIN:VEVENT
DTSTART;TZID=America/Toronto:20190711T070000
DTEND;TZID=America/Toronto:20190711T113000
DTSTAMP:20260423T061804
CREATED:20190617T170640Z
LAST-MODIFIED:20190617T170640Z
UID:5254-1562828400-1562844600@blacklickwoodsgc.com
SUMMARY:Practice Facility Closed-7am-11:30am
DESCRIPTION:First Tee
URL:https://blacklickwoodsgc.com/event/practice-facility-closed-7am-1130am-13/
CATEGORIES:Driving Range
END:VEVENT
BEGIN:VEVENT
DTSTART;TZID=America/Toronto:20190710T070000
DTEND;TZID=America/Toronto:20190710T113000
DTSTAMP:20260423T061804
CREATED:20190617T165345Z
LAST-MODIFIED:20190617T165345Z
UID:5242-1562742000-1562758200@blacklickwoodsgc.com
SUMMARY:Learning Course Closed-7am-11:30am
DESCRIPTION:League
URL:https://blacklickwoodsgc.com/event/learning-course-closed-7am-1130am-14/
CATEGORIES:Learning Course
END:VEVENT
BEGIN:VEVENT
DTSTART;TZID=America/Toronto:20190709T070000
DTEND;TZID=America/Toronto:20190709T113000
DTSTAMP:20260423T061804
CREATED:20190617T163831Z
LAST-MODIFIED:20190617T163831Z
UID:5218-1562655600-1562671800@blacklickwoodsgc.com
SUMMARY:Learning Course Closed-7am-11:30am
DESCRIPTION:First Tee
URL:https://blacklickwoodsgc.com/event/learning-course-closed-7am-1130am-9/
CATEGORIES:Learning Course
END:VEVENT
BEGIN:VEVENT
DTSTART;TZID=America/Toronto:20190709T070000
DTEND;TZID=America/Toronto:20190709T113000
DTSTAMP:20260423T061804
CREATED:20190617T163702Z
LAST-MODIFIED:20190617T163702Z
UID:5215-1562655600-1562671800@blacklickwoodsgc.com
SUMMARY:Practice Facility Closed-7am-11:30am
DESCRIPTION:First Tee
URL:https://blacklickwoodsgc.com/event/practice-facility-closed-7am-1130am-9/
CATEGORIES:Driving Range
END:VEVENT
BEGIN:VEVENT
DTSTART;TZID=America/Toronto:20190708T070000
DTEND;TZID=America/Toronto:20190708T120000
DTSTAMP:20260423T061804
CREATED:20190617T162719Z
LAST-MODIFIED:20190617T162719Z
UID:5203-1562569200-1562587200@blacklickwoodsgc.com
SUMMARY:Driving Range Closed-7am-Noon
DESCRIPTION:Maintenance
URL:https://blacklickwoodsgc.com/event/driving-range-closed-7am-noon-9/
CATEGORIES:Driving Range
END:VEVENT
BEGIN:VEVENT
DTSTART;TZID=America/Toronto:20190703T070000
DTEND;TZID=America/Toronto:20190703T113000
DTSTAMP:20260423T061804
CREATED:20190617T164949Z
LAST-MODIFIED:20190617T164949Z
UID:5239-1562137200-1562153400@blacklickwoodsgc.com
SUMMARY:Learning Course Closed-7am-11:30am
DESCRIPTION:League
URL:https://blacklickwoodsgc.com/event/learning-course-closed-7am-1130am-13/
CATEGORIES:Learning Course
END:VEVENT
BEGIN:VEVENT
DTSTART;TZID=America/Toronto:20190701T070000
DTEND;TZID=America/Toronto:20190701T120000
DTSTAMP:20260423T061804
CREATED:20190617T162228Z
LAST-MODIFIED:20190617T162228Z
UID:5200-1561964400-1561982400@blacklickwoodsgc.com
SUMMARY:Driving Range Closed- 7am-Noon
DESCRIPTION:Maintenance
URL:https://blacklickwoodsgc.com/event/driving-range-closed-7am-noon-8/
CATEGORIES:Driving Range
END:VEVENT
BEGIN:VEVENT
DTSTART;TZID=America/Toronto:20190627T163000
DTEND;TZID=America/Toronto:20190627T183000
DTSTAMP:20260423T061804
CREATED:20190523T185130Z
LAST-MODIFIED:20190523T185130Z
UID:5165-1561653000-1561660200@blacklickwoodsgc.com
SUMMARY:Learning Course Closed-4:30pm-6:15pm
DESCRIPTION:League
URL:https://blacklickwoodsgc.com/event/learning-course-closed-430pm-615pm-4/
CATEGORIES:Learning Course
END:VEVENT
BEGIN:VEVENT
DTSTART;TZID=America/Toronto:20190627T070000
DTEND;TZID=America/Toronto:20190627T113000
DTSTAMP:20260423T061804
CREATED:20190523T183152Z
LAST-MODIFIED:20190523T183152Z
UID:5117-1561618800-1561635000@blacklickwoodsgc.com
SUMMARY:Practice Facility Closed-7am-11:30am
DESCRIPTION:First Tee
URL:https://blacklickwoodsgc.com/event/practice-facility-closed-7am-1130am-8/
CATEGORIES:Driving Range
END:VEVENT
BEGIN:VEVENT
DTSTART;TZID=America/Toronto:20190627T070000
DTEND;TZID=America/Toronto:20190627T113000
DTSTAMP:20260423T061804
CREATED:20190523T183105Z
LAST-MODIFIED:20190523T183105Z
UID:5114-1561618800-1561635000@blacklickwoodsgc.com
SUMMARY:Learning Course Closed-7am-11:30am
DESCRIPTION:First Tee
URL:https://blacklickwoodsgc.com/event/learning-course-closed-7am-1130am-8/
CATEGORIES:Learning Course
END:VEVENT
BEGIN:VEVENT
DTSTART;TZID=America/Toronto:20190626T070000
DTEND;TZID=America/Toronto:20190626T110000
DTSTAMP:20260423T061804
CREATED:20190523T183838Z
LAST-MODIFIED:20190523T183838Z
UID:5141-1561532400-1561546800@blacklickwoodsgc.com
SUMMARY:Learning Course Closed-7am-11am
DESCRIPTION:League
URL:https://blacklickwoodsgc.com/event/learning-course-closed-7am-11am-4/
CATEGORIES:Learning Course
END:VEVENT
BEGIN:VEVENT
DTSTART;TZID=America/Toronto:20190625T070000
DTEND;TZID=America/Toronto:20190625T113000
DTSTAMP:20260423T061804
CREATED:20190523T182627Z
LAST-MODIFIED:20190523T182627Z
UID:5111-1561446000-1561462200@blacklickwoodsgc.com
SUMMARY:Practice Facility Closed-7am-11:30am
DESCRIPTION:First Tee
URL:https://blacklickwoodsgc.com/event/practice-facility-closed-7am-1130am-7/
CATEGORIES:Driving Range
END:VEVENT
BEGIN:VEVENT
DTSTART;TZID=America/Toronto:20190625T070000
DTEND;TZID=America/Toronto:20190625T113000
DTSTAMP:20260423T061804
CREATED:20190523T182543Z
LAST-MODIFIED:20190523T182543Z
UID:5108-1561446000-1561462200@blacklickwoodsgc.com
SUMMARY:Learning Course Closed-7am-11:30am
DESCRIPTION:First Tee
URL:https://blacklickwoodsgc.com/event/learning-course-closed-7am-1130am-7/
CATEGORIES:Learning Course
END:VEVENT
BEGIN:VEVENT
DTSTART;TZID=America/Toronto:20190624T070000
DTEND;TZID=America/Toronto:20190624T120000
DTSTAMP:20260423T061804
CREATED:20190523T183504Z
LAST-MODIFIED:20190523T183504Z
UID:5129-1561359600-1561377600@blacklickwoodsgc.com
SUMMARY:Driving Range Closed-7am-Noon
DESCRIPTION:Maintenance
URL:https://blacklickwoodsgc.com/event/driving-range-closed-7am-noon-7/
CATEGORIES:Driving Range
END:VEVENT
BEGIN:VEVENT
DTSTART;TZID=America/Toronto:20190621T070000
DTEND;TZID=America/Toronto:20190621T140000
DTSTAMP:20260423T061804
CREATED:20190523T185546Z
LAST-MODIFIED:20190523T185546Z
UID:5168-1561100400-1561125600@blacklickwoodsgc.com
SUMMARY:Practice Facility Closed- 7am-2pm
DESCRIPTION:Drive\, Chip\, and Putt
URL:https://blacklickwoodsgc.com/event/practice-facility-closed-7am-2pm/
CATEGORIES:Driving Range
END:VEVENT
BEGIN:VEVENT
DTSTART;TZID=America/Toronto:20190620T163000
DTEND;TZID=America/Toronto:20190620T183000
DTSTAMP:20260423T061804
CREATED:20190523T185050Z
LAST-MODIFIED:20190523T185050Z
UID:5162-1561048200-1561055400@blacklickwoodsgc.com
SUMMARY:Learning Course Closed-4:30pm-6:15pm
DESCRIPTION:League
URL:https://blacklickwoodsgc.com/event/learning-course-closed-430pm-615pm-3/
CATEGORIES:Learning Course
END:VEVENT
BEGIN:VEVENT
DTSTART;TZID=America/Toronto:20190620T070000
DTEND;TZID=America/Toronto:20190620T113000
DTSTAMP:20260423T061804
CREATED:20190523T182339Z
LAST-MODIFIED:20190523T182339Z
UID:5105-1561014000-1561030200@blacklickwoodsgc.com
SUMMARY:Practice Facility Closed- 7am-11:30am
DESCRIPTION:First Tee
URL:https://blacklickwoodsgc.com/event/practice-facility-closed-7am-1130am-6/
CATEGORIES:Driving Range
END:VEVENT
BEGIN:VEVENT
DTSTART;TZID=America/Toronto:20190620T070000
DTEND;TZID=America/Toronto:20190620T113000
DTSTAMP:20260423T061804
CREATED:20190523T182245Z
LAST-MODIFIED:20190523T182245Z
UID:5102-1561014000-1561030200@blacklickwoodsgc.com
SUMMARY:Learning Course Closed-7am-11:30am
DESCRIPTION:First Tee
URL:https://blacklickwoodsgc.com/event/learning-course-closed-7am-1130am-6/
CATEGORIES:Learning Course
END:VEVENT
BEGIN:VEVENT
DTSTART;TZID=America/Toronto:20190619T070000
DTEND;TZID=America/Toronto:20190619T110000
DTSTAMP:20260423T061804
CREATED:20190523T183735Z
LAST-MODIFIED:20190523T183735Z
UID:5138-1560927600-1560942000@blacklickwoodsgc.com
SUMMARY:Learning Course Closed-7am-11am
DESCRIPTION:League
URL:https://blacklickwoodsgc.com/event/learning-course-closed-7am-11am-3/
CATEGORIES:Learning Course
END:VEVENT
END:VCALENDAR