BEGIN:VCALENDAR
VERSION:2.0
PRODID:-//Blacklick Woods - ECPv6.15.20//NONSGML v1.0//EN
CALSCALE:GREGORIAN
METHOD:PUBLISH
X-WR-CALNAME:Blacklick Woods
X-ORIGINAL-URL:https://blacklickwoodsgc.com
X-WR-CALDESC:Events for Blacklick Woods
REFRESH-INTERVAL;VALUE=DURATION:PT1H
X-Robots-Tag:noindex
X-PUBLISHED-TTL:PT1H
BEGIN:VTIMEZONE
TZID:America/Toronto
BEGIN:DAYLIGHT
TZOFFSETFROM:-0500
TZOFFSETTO:-0400
TZNAME:EDT
DTSTART:20180311T070000
END:DAYLIGHT
BEGIN:STANDARD
TZOFFSETFROM:-0400
TZOFFSETTO:-0500
TZNAME:EST
DTSTART:20181104T060000
END:STANDARD
BEGIN:DAYLIGHT
TZOFFSETFROM:-0500
TZOFFSETTO:-0400
TZNAME:EDT
DTSTART:20190310T070000
END:DAYLIGHT
BEGIN:STANDARD
TZOFFSETFROM:-0400
TZOFFSETTO:-0500
TZNAME:EST
DTSTART:20191103T060000
END:STANDARD
BEGIN:DAYLIGHT
TZOFFSETFROM:-0500
TZOFFSETTO:-0400
TZNAME:EDT
DTSTART:20200308T070000
END:DAYLIGHT
BEGIN:STANDARD
TZOFFSETFROM:-0400
TZOFFSETTO:-0500
TZNAME:EST
DTSTART:20201101T060000
END:STANDARD
END:VTIMEZONE
BEGIN:VEVENT
DTSTART;TZID=America/Toronto:20190627T070000
DTEND;TZID=America/Toronto:20190627T113000
DTSTAMP:20260423T091821
CREATED:20190523T183105Z
LAST-MODIFIED:20190523T183105Z
UID:5114-1561618800-1561635000@blacklickwoodsgc.com
SUMMARY:Learning Course Closed-7am-11:30am
DESCRIPTION:First Tee
URL:https://blacklickwoodsgc.com/event/learning-course-closed-7am-1130am-8/
CATEGORIES:Learning Course
END:VEVENT
BEGIN:VEVENT
DTSTART;TZID=America/Toronto:20190626T070000
DTEND;TZID=America/Toronto:20190626T110000
DTSTAMP:20260423T091821
CREATED:20190523T183838Z
LAST-MODIFIED:20190523T183838Z
UID:5141-1561532400-1561546800@blacklickwoodsgc.com
SUMMARY:Learning Course Closed-7am-11am
DESCRIPTION:League
URL:https://blacklickwoodsgc.com/event/learning-course-closed-7am-11am-4/
CATEGORIES:Learning Course
END:VEVENT
BEGIN:VEVENT
DTSTART;TZID=America/Toronto:20190625T070000
DTEND;TZID=America/Toronto:20190625T113000
DTSTAMP:20260423T091821
CREATED:20190523T182627Z
LAST-MODIFIED:20190523T182627Z
UID:5111-1561446000-1561462200@blacklickwoodsgc.com
SUMMARY:Practice Facility Closed-7am-11:30am
DESCRIPTION:First Tee
URL:https://blacklickwoodsgc.com/event/practice-facility-closed-7am-1130am-7/
CATEGORIES:Driving Range
END:VEVENT
BEGIN:VEVENT
DTSTART;TZID=America/Toronto:20190625T070000
DTEND;TZID=America/Toronto:20190625T113000
DTSTAMP:20260423T091821
CREATED:20190523T182543Z
LAST-MODIFIED:20190523T182543Z
UID:5108-1561446000-1561462200@blacklickwoodsgc.com
SUMMARY:Learning Course Closed-7am-11:30am
DESCRIPTION:First Tee
URL:https://blacklickwoodsgc.com/event/learning-course-closed-7am-1130am-7/
CATEGORIES:Learning Course
END:VEVENT
BEGIN:VEVENT
DTSTART;TZID=America/Toronto:20190624T070000
DTEND;TZID=America/Toronto:20190624T120000
DTSTAMP:20260423T091821
CREATED:20190523T183504Z
LAST-MODIFIED:20190523T183504Z
UID:5129-1561359600-1561377600@blacklickwoodsgc.com
SUMMARY:Driving Range Closed-7am-Noon
DESCRIPTION:Maintenance
URL:https://blacklickwoodsgc.com/event/driving-range-closed-7am-noon-7/
CATEGORIES:Driving Range
END:VEVENT
BEGIN:VEVENT
DTSTART;TZID=America/Toronto:20190621T070000
DTEND;TZID=America/Toronto:20190621T140000
DTSTAMP:20260423T091821
CREATED:20190523T185546Z
LAST-MODIFIED:20190523T185546Z
UID:5168-1561100400-1561125600@blacklickwoodsgc.com
SUMMARY:Practice Facility Closed- 7am-2pm
DESCRIPTION:Drive\, Chip\, and Putt
URL:https://blacklickwoodsgc.com/event/practice-facility-closed-7am-2pm/
CATEGORIES:Driving Range
END:VEVENT
BEGIN:VEVENT
DTSTART;TZID=America/Toronto:20190620T163000
DTEND;TZID=America/Toronto:20190620T183000
DTSTAMP:20260423T091821
CREATED:20190523T185050Z
LAST-MODIFIED:20190523T185050Z
UID:5162-1561048200-1561055400@blacklickwoodsgc.com
SUMMARY:Learning Course Closed-4:30pm-6:15pm
DESCRIPTION:League
URL:https://blacklickwoodsgc.com/event/learning-course-closed-430pm-615pm-3/
CATEGORIES:Learning Course
END:VEVENT
BEGIN:VEVENT
DTSTART;TZID=America/Toronto:20190620T070000
DTEND;TZID=America/Toronto:20190620T113000
DTSTAMP:20260423T091821
CREATED:20190523T182339Z
LAST-MODIFIED:20190523T182339Z
UID:5105-1561014000-1561030200@blacklickwoodsgc.com
SUMMARY:Practice Facility Closed- 7am-11:30am
DESCRIPTION:First Tee
URL:https://blacklickwoodsgc.com/event/practice-facility-closed-7am-1130am-6/
CATEGORIES:Driving Range
END:VEVENT
BEGIN:VEVENT
DTSTART;TZID=America/Toronto:20190620T070000
DTEND;TZID=America/Toronto:20190620T113000
DTSTAMP:20260423T091821
CREATED:20190523T182245Z
LAST-MODIFIED:20190523T182245Z
UID:5102-1561014000-1561030200@blacklickwoodsgc.com
SUMMARY:Learning Course Closed-7am-11:30am
DESCRIPTION:First Tee
URL:https://blacklickwoodsgc.com/event/learning-course-closed-7am-1130am-6/
CATEGORIES:Learning Course
END:VEVENT
BEGIN:VEVENT
DTSTART;TZID=America/Toronto:20190619T070000
DTEND;TZID=America/Toronto:20190619T110000
DTSTAMP:20260423T091821
CREATED:20190523T183735Z
LAST-MODIFIED:20190523T183735Z
UID:5138-1560927600-1560942000@blacklickwoodsgc.com
SUMMARY:Learning Course Closed-7am-11am
DESCRIPTION:League
URL:https://blacklickwoodsgc.com/event/learning-course-closed-7am-11am-3/
CATEGORIES:Learning Course
END:VEVENT
BEGIN:VEVENT
DTSTART;TZID=America/Toronto:20190618T070000
DTEND;TZID=America/Toronto:20190618T113000
DTSTAMP:20260423T091821
CREATED:20190523T182148Z
LAST-MODIFIED:20190523T182148Z
UID:5099-1560841200-1560857400@blacklickwoodsgc.com
SUMMARY:Practice Facility Closed- 7am-11:30am
DESCRIPTION:First Tee
URL:https://blacklickwoodsgc.com/event/practice-facility-closed-7am-1130am-5/
CATEGORIES:Driving Range
END:VEVENT
BEGIN:VEVENT
DTSTART;TZID=America/Toronto:20190618T070000
DTEND;TZID=America/Toronto:20190618T113000
DTSTAMP:20260423T091821
CREATED:20190523T182021Z
LAST-MODIFIED:20190523T182056Z
UID:5096-1560841200-1560857400@blacklickwoodsgc.com
SUMMARY:Learning Course Closed- 7am-11:30am
DESCRIPTION:First Tee
URL:https://blacklickwoodsgc.com/event/learning-course-closed-7am-1130am-5/
CATEGORIES:Learning Course
END:VEVENT
BEGIN:VEVENT
DTSTART;TZID=America/Toronto:20190617T070000
DTEND;TZID=America/Toronto:20190617T120000
DTSTAMP:20260423T091821
CREATED:20190523T183420Z
LAST-MODIFIED:20190523T183420Z
UID:5126-1560754800-1560772800@blacklickwoodsgc.com
SUMMARY:Driving Range Closed-7am-Noon
DESCRIPTION:Maintenance
URL:https://blacklickwoodsgc.com/event/driving-range-closed-7am-noon-6/
CATEGORIES:Driving Range
END:VEVENT
BEGIN:VEVENT
DTSTART;TZID=America/Toronto:20190613T163000
DTEND;TZID=America/Toronto:20190613T183000
DTSTAMP:20260423T091821
CREATED:20190523T184756Z
LAST-MODIFIED:20190523T184756Z
UID:5159-1560443400-1560450600@blacklickwoodsgc.com
SUMMARY:Learning Course Closed- 4:30pm-6:15pm
DESCRIPTION:League
URL:https://blacklickwoodsgc.com/event/learning-course-closed-430pm-615pm-2/
CATEGORIES:Learning Course
END:VEVENT
BEGIN:VEVENT
DTSTART;TZID=America/Toronto:20190613T070000
DTEND;TZID=America/Toronto:20190613T113000
DTSTAMP:20260423T091821
CREATED:20190523T181930Z
LAST-MODIFIED:20190523T181930Z
UID:5093-1560409200-1560425400@blacklickwoodsgc.com
SUMMARY:Practice Facility Closed- 7am-11:30am
DESCRIPTION:First Tee
URL:https://blacklickwoodsgc.com/event/practice-facility-closed-7am-1130am-4/
CATEGORIES:Driving Range
END:VEVENT
BEGIN:VEVENT
DTSTART;TZID=America/Toronto:20190613T070000
DTEND;TZID=America/Toronto:20190613T113000
DTSTAMP:20260423T091821
CREATED:20190523T181823Z
LAST-MODIFIED:20190523T181823Z
UID:5090-1560409200-1560425400@blacklickwoodsgc.com
SUMMARY:Learning Course Closed- 7am-11:30am
DESCRIPTION:First Tee
URL:https://blacklickwoodsgc.com/event/learning-course-closed-7am-1130am-4/
CATEGORIES:Learning Course
END:VEVENT
BEGIN:VEVENT
DTSTART;TZID=America/Toronto:20190612T070000
DTEND;TZID=America/Toronto:20190612T110000
DTSTAMP:20260423T091821
CREATED:20190523T183649Z
LAST-MODIFIED:20190523T183649Z
UID:5135-1560322800-1560337200@blacklickwoodsgc.com
SUMMARY:Learning Course Closed-7am-11am
DESCRIPTION:League
URL:https://blacklickwoodsgc.com/event/learning-course-closed-7am-11am-2/
CATEGORIES:Learning Course
END:VEVENT
BEGIN:VEVENT
DTSTART;TZID=America/Toronto:20190611T070000
DTEND;TZID=America/Toronto:20190611T113000
DTSTAMP:20260423T091821
CREATED:20190523T181729Z
LAST-MODIFIED:20190523T181729Z
UID:5087-1560236400-1560252600@blacklickwoodsgc.com
SUMMARY:Practice Facility Closed- 7am-11:30am
DESCRIPTION:First Tee
URL:https://blacklickwoodsgc.com/event/practice-facility-closed-7am-1130am-3/
CATEGORIES:Driving Range
END:VEVENT
BEGIN:VEVENT
DTSTART;TZID=America/Toronto:20190611T070000
DTEND;TZID=America/Toronto:20190611T113000
DTSTAMP:20260423T091821
CREATED:20190523T181629Z
LAST-MODIFIED:20190523T181629Z
UID:5084-1560236400-1560252600@blacklickwoodsgc.com
SUMMARY:Learning Course Closed- 7am-11:30am
DESCRIPTION:First Tee
URL:https://blacklickwoodsgc.com/event/learning-course-closed-7am-1130am-3/
CATEGORIES:Learning Course
END:VEVENT
BEGIN:VEVENT
DTSTART;TZID=America/Toronto:20190610T070000
DTEND;TZID=America/Toronto:20190610T120000
DTSTAMP:20260423T091821
CREATED:20190523T183341Z
LAST-MODIFIED:20190523T183341Z
UID:5123-1560150000-1560168000@blacklickwoodsgc.com
SUMMARY:Driving Range Closed-7am-Noon
DESCRIPTION:Maintenance
URL:https://blacklickwoodsgc.com/event/driving-range-closed-7am-noon-5/
CATEGORIES:Driving Range
END:VEVENT
BEGIN:VEVENT
DTSTART;TZID=America/Toronto:20190606T163000
DTEND;TZID=America/Toronto:20190606T183000
DTSTAMP:20260423T091821
CREATED:20190523T184432Z
LAST-MODIFIED:20190523T184432Z
UID:5156-1559838600-1559845800@blacklickwoodsgc.com
SUMMARY:Learning Course Closed- 4:30pm-6:15pm
DESCRIPTION:League
URL:https://blacklickwoodsgc.com/event/learning-course-closed-430pm-615pm/
CATEGORIES:Learning Course
END:VEVENT
BEGIN:VEVENT
DTSTART;TZID=America/Toronto:20190606T070000
DTEND;TZID=America/Toronto:20190606T113000
DTSTAMP:20260423T091821
CREATED:20190523T181528Z
LAST-MODIFIED:20190523T181528Z
UID:5081-1559804400-1559820600@blacklickwoodsgc.com
SUMMARY:Practice Facility Closed- 7am-11:30am
DESCRIPTION:First Tee
URL:https://blacklickwoodsgc.com/event/practice-facility-closed-7am-1130am-2/
CATEGORIES:Driving Range
END:VEVENT
BEGIN:VEVENT
DTSTART;TZID=America/Toronto:20190606T070000
DTEND;TZID=America/Toronto:20190606T113000
DTSTAMP:20260423T091821
CREATED:20190523T181423Z
LAST-MODIFIED:20190523T181423Z
UID:5078-1559804400-1559820600@blacklickwoodsgc.com
SUMMARY:Learning Course Closed- 7am-11:30am
DESCRIPTION:First Tee
URL:https://blacklickwoodsgc.com/event/learning-course-closed-7am-1130am-2/
CATEGORIES:Learning Course
END:VEVENT
BEGIN:VEVENT
DTSTART;TZID=America/Toronto:20190605T070000
DTEND;TZID=America/Toronto:20190605T110000
DTSTAMP:20260423T091821
CREATED:20190523T183608Z
LAST-MODIFIED:20190523T183608Z
UID:5132-1559718000-1559732400@blacklickwoodsgc.com
SUMMARY:Learning Course Closed-7am-11am
DESCRIPTION:League
URL:https://blacklickwoodsgc.com/event/learning-course-closed-7am-11am/
CATEGORIES:Learning Course
END:VEVENT
BEGIN:VEVENT
DTSTART;TZID=America/Toronto:20190604T070000
DTEND;TZID=America/Toronto:20190604T113000
DTSTAMP:20260423T091821
CREATED:20190523T180826Z
LAST-MODIFIED:20190523T180826Z
UID:5074-1559631600-1559647800@blacklickwoodsgc.com
SUMMARY:Practice Facility Closed- 7am-11:30am
DESCRIPTION:First Tee
URL:https://blacklickwoodsgc.com/event/practice-facility-closed-7am-1130am/
CATEGORIES:Driving Range
END:VEVENT
BEGIN:VEVENT
DTSTART;TZID=America/Toronto:20190604T070000
DTEND;TZID=America/Toronto:20190604T113000
DTSTAMP:20260423T091821
CREATED:20190523T180658Z
LAST-MODIFIED:20190523T180658Z
UID:5071-1559631600-1559647800@blacklickwoodsgc.com
SUMMARY:Learning Course Closed- 7am-11:30am
DESCRIPTION:First Tee
URL:https://blacklickwoodsgc.com/event/learning-course-closed-7am-1130am/
CATEGORIES:Learning Course
END:VEVENT
BEGIN:VEVENT
DTSTART;TZID=America/Toronto:20190603T070000
DTEND;TZID=America/Toronto:20190603T120000
DTSTAMP:20260423T091821
CREATED:20190523T183257Z
LAST-MODIFIED:20190523T183257Z
UID:5120-1559545200-1559563200@blacklickwoodsgc.com
SUMMARY:Driving Range Closed-7am-Noon
DESCRIPTION:Maintenance
URL:https://blacklickwoodsgc.com/event/driving-range-closed-7am-noon-4/
CATEGORIES:Driving Range
END:VEVENT
BEGIN:VEVENT
DTSTART;TZID=America/Toronto:20190531T070000
DTEND;TZID=America/Toronto:20190531T100000
DTSTAMP:20260423T091821
CREATED:20190430T154309Z
LAST-MODIFIED:20190430T154309Z
UID:4990-1559286000-1559296800@blacklickwoodsgc.com
SUMMARY:Learning Course Closed- 7am-10am
DESCRIPTION:Maintenance
URL:https://blacklickwoodsgc.com/event/learning-course-closed-7am-10am-5/
CATEGORIES:Learning Course
END:VEVENT
BEGIN:VEVENT
DTSTART;TZID=America/Toronto:20190530T163000
DTEND;TZID=America/Toronto:20190530T183000
DTSTAMP:20260423T091821
CREATED:20190516T124642Z
LAST-MODIFIED:20190516T124642Z
UID:5052-1559233800-1559241000@blacklickwoodsgc.com
SUMMARY:Learning Course Closed- 4:30 pm- 6:15 pm
DESCRIPTION:League
URL:https://blacklickwoodsgc.com/event/learning-course-closed-430-pm-615-pm-3/
CATEGORIES:Learning Course
END:VEVENT
BEGIN:VEVENT
DTSTART;TZID=America/Toronto:20190529T070000
DTEND;TZID=America/Toronto:20190529T120000
DTSTAMP:20260423T091821
CREATED:20190430T153738Z
LAST-MODIFIED:20190430T154735Z
UID:4975-1559113200-1559131200@blacklickwoodsgc.com
SUMMARY:Learning Course Closed- 7am-Noon
DESCRIPTION:League
URL:https://blacklickwoodsgc.com/event/learning-course-closed-7am-noon-5/
CATEGORIES:Learning Course
END:VEVENT
END:VCALENDAR